BEGIN:VCALENDAR
VERSION:2.0
BEGIN:VEVENT
SUMMARY:POZVÁNKA: Strategické partnerství pro bezpečnou a digitální Evropu
DESCRIPTION:Srdečně vás zveme na debatu s názvem "Strategické partnerství pro bezpečnou a digitální Evropu", kterou pořádají Institut pro evropskou politiku EUROPEUM, Centrum pro evropskou perspektivu a Atlantic Council. Debata se uskuteční 23. listopadu v 8:45 hodin v Americkém centru a bude rovněž přenášena online.
DTSTART:20221123T074500Z
DTEND:20221123T091500Z
END:VEVENT
END:VCALENDAR
