BEGIN:VCALENDAR
VERSION:2.0
BEGIN:VEVENT
SUMMARY:POZVÁNKA | EU - Pacific Talks: Free and Open Indo-Pacific: Bold vision for bold players
DESCRIPTION:Rádi bychom Vás pozvali na debatu EU-Pacific Talks: Free and Open Indo-Pacific: Bold vision for bold players, která se bude konat 16.12 od 11:00 online na našem Facebooku.
DTSTART:20221215T230000Z
DTEND:20221216T003000Z
END:VEVENT
END:VCALENDAR
