BEGIN:VCALENDAR
VERSION:2.0
BEGIN:VEVENT
SUMMARY:EU-Pacific Talks: In-EV-itable future of automotive industry: what is the role of the Pacific region
DESCRIPTION:Rádi bychom vás pozvali na debatu s názvem "In-EV-itable future of automotive industry: what is the role of the Pacific region" v rámci série rozhovorů EU-PACIFIC Talks. Debata se uskuteční online v úterý 30. května ve 13:00.
DTSTART:20230526T123000Z
DTEND:20230526T140000Z
END:VEVENT
END:VCALENDAR
