BEGIN:VCALENDAR
VERSION:2.0
BEGIN:VEVENT
SUMMARY:INVITATION | EU±// Election season in Central Europe - what lies ahead for our region?
DESCRIPTION:We would like to invite you to the next debate in the EU± series, this time on the topic "Election season in Central Europe - what lies ahead for our region?". The debate will take place online on 19 June at 18:00.
DTSTART:20230619T160000Z
DTEND:20230619T173000Z
END:VEVENT
END:VCALENDAR
