BEGIN:VCALENDAR
VERSION:2.0
BEGIN:VEVENT
SUMMARY:EU-Pacific Talks: Taiwan and security dimension – lessons learned, Indo-Pacific containment
DESCRIPTION:Rádi bychom vás pozvali na online debatu s názvem "Taiwan and security dimension – lessons learned, Indo-Pacific containment" v rámci série rozhovorů EU-PACIFIC Talks. Rozšiřte své znalosti o bezpečnostní situaci Taiwanu a připojte se k debatě, která se uskuteční na našem Facebooku v pátek 6. října od 14:00.
DTSTART:20231006T123500Z
DTEND:20231006T140500Z
END:VEVENT
END:VCALENDAR
