BEGIN:VCALENDAR
VERSION:2.0
BEGIN:VEVENT
SUMMARY:POZVÁNKA | The Gender-Foreign and Security Policy Nexus: Can the EU be a Global Standard-setter?
DESCRIPTION:Srdečně Vás zveme na besedu s expertkami, která nese název “The Gender-Foreign and Security Policy Nexus: Can the EU be a Global Standard-setter?”. 
Místo konání: The Library Europe, Avenue de Broqueville 40, 1200 W-S-L, Brusel.​
DTSTART:20231122T121000Z
DTEND:20231122T134000Z
END:VEVENT
END:VCALENDAR
