BEGIN:VCALENDAR
VERSION:2.0
BEGIN:VEVENT
SUMMARY:HOSPODA EVROPA | Swing by for a beer! Talking about Europe as you see it.
DESCRIPTION:We cordially invite you to an informal debate from the "Hospoda Evropa" series. We will talk about Europe as you see it. The debate will take place in person in Mrač on Thursday 19th January, at 18:30.
DTSTART:20230117T170000Z
DTEND:20230117T183000Z
END:VEVENT
END:VCALENDAR
