BEGIN:VCALENDAR
VERSION:2.0
BEGIN:VEVENT
SUMMARY:EU-Pacific Talks | Global Race in Emerging Technologies: Lessons for EU-Pacific Cooperation
DESCRIPTION:Zveme Vás na další debatu v rámci cyklu EU-Pacific Talks, tentokrát na téma: "Global Race in Emerging Technologies: Lessons for EU-Pacific Cooperation". Online debata se uskuteční v úterý 9. ledna od 11:00 do 12:10 ve formě online streamu na FB.
DTSTART:20240103T141500Z
DTEND:20240103T154500Z
END:VEVENT
END:VCALENDAR
