BEGIN:VCALENDAR
VERSION:2.0
BEGIN:VEVENT
SUMMARY:RevivEU | Should we fear for the economic future of Europe?
DESCRIPTION:We invite you to a public podcast recording focusing on the discussion of the impacts of the COVID-19 pandemic on European industrial policy and its potential consequences for the Czech economy and society. We will discuss the new technological dynamics resulting from the pandemic and explore ways in which the European Union can respond to technological competition with the USA and China.
DTSTART:20240529T153000Z
DTEND:20240529T170000Z
END:VEVENT
END:VCALENDAR
