BEGIN:VCALENDAR
VERSION:2.0
BEGIN:VEVENT
SUMMARY:Café Evropa | 20 let v EU: Co členství dalo a vzalo Šumpersku?
DESCRIPTION:S regionálními debatami z cyklu Café Evropa na konci října zamíříme na Šumpersko. Přijďte si s našimi hosty povídat o tom, jak se region za poslední dvě dekády proměnil a co mu členství v EU přineslo. Jak by se daly v oblasti lépe využít evropské dotace? A co budete mít z Green Dealu?
DTSTART:20241031T160000Z
DTEND:20241031T173000Z
END:VEVENT
END:VCALENDAR
