BEGIN:VCALENDAR
VERSION:2.0
BEGIN:VEVENT
SUMMARY:Debata | Demokracie v akci: Jak se odrazí supervolební rok v integritě voleb
DESCRIPTION:Debata se bude zabývat „supervolebním rokem“, hlasování, které se konalo v klíčových regionech, jako je Tchaj-wan, volby do Evropského parlamentu v EU, Spojené království, Spojené státy, Indonésie a Indie. Od kritických prezidentských voleb v USA v roce 2016 se pozornost věnovaná integritě voleb přesunula od zahraničních zásahů a platforem sociálních médií, jako jsou Facebook a Twitter, k hrozbám, které představují modely umělé inteligence a deepfake videa. Cílem těch, kdo se vměšují do voleb, je oslabit demokratické základy a podkopat důvěru ve vládní instituce a faktické informace.
DTSTART:20241114T090125Z
DTEND:20241114T103125Z
END:VEVENT
END:VCALENDAR
