BEGIN:VCALENDAR
VERSION:2.0
BEGIN:VEVENT
SUMMARY:Požáry, povodně a extrémní počasí - jak EU pomáhá? Reflexe plenárního zasedání Evropského parlamentu
DESCRIPTION:Rádi bychom Vás pozvali na další ze série debat, které přináší aktuální pohled na klíčová témata projednávaná na plenárních zasedání Evropského parlamentu. Tentokrát se zaměříme na význam EU při živelných pohromách. 
DTSTART:20250714T150000Z
DTEND:20250714T163000Z
END:VEVENT
END:VCALENDAR
