BEGIN:VCALENDAR
VERSION:2.0
BEGIN:VEVENT
SUMMARY:Evropské čtvrtky ve Skauťáku
DESCRIPTION:"Prosperitě EU brání teď už víc národní státy než Brusel". Přijď poslední čtvrtek v měsíci do našeho skautského sousedství a přidej se k otevřené diskuzi, která naváže na úvodní podnět od Petra Jonáka, který se dlouhodobě se věnuje otázkám evropské politiky, konkurenceschopnosti a udržitelnosti.
DTSTART:20250724T150000Z
DTEND:20250724T163000Z
END:VEVENT
END:VCALENDAR
