BEGIN:VCALENDAR
VERSION:2.0
BEGIN:VEVENT
SUMMARY:Kulatý stůl o mobilitě a živých městech | Evropský týden mobility
DESCRIPTION:Dostali jsme příležitost se zapojit do této akce a rádi bychom Vás pozvali na Evropský týden mobility, který proběhne 15. - 19.9. v Opavě! 

Evropský týden mobility je celoevropská osvětová kampaň na podporu udržitelné městské mobility. 
DTSTART:20250915T140000Z
DTEND:20250915T153000Z
END:VEVENT
END:VCALENDAR
