BEGIN:VCALENDAR
VERSION:2.0
BEGIN:VEVENT
SUMMARY:CANCELLED | European Week of Regions and Cities | Empowering Citizens to Shape a Fair Green Future
DESCRIPTION:Join us together with JustGreen at European Week of Regions and Cities in Brussels to see how citizen voices can drive a fair and inclusive future. Our session “Empowering Citizens to Shape a Fair Green Future“ will explore how to make green transition inclusive.
DTSTART:20251014T130000Z
DTEND:20251014T143000Z
END:VEVENT
END:VCALENDAR
