BEGIN:VCALENDAR
VERSION:2.0
BEGIN:VEVENT
SUMMARY:Kulatý stůl | Vize pro český automobilový průmysl
DESCRIPTION:Rok 2025 byl pro evropský i český automotive turbulentní – americká cla, strategický dialog EU s automobilovým průmyslem, úprava emisních cílů i znovuotevřená debata o ukončení prodeje aut se spalovacími motory v roce 2035.
DTSTART:20251022T080000Z
DTEND:20251022T093000Z
END:VEVENT
END:VCALENDAR
