BEGIN:VCALENDAR
VERSION:2.0
BEGIN:VEVENT
SUMMARY:Veřejné natáčení podcastu Café Evropa: Evropa, má vlast
DESCRIPTION:Zveme vás na veřejné natáčení podcastu Café Evropa. Tentokrát o tom, jak dnes vypadá moderní vlastenectví a jak se proměňuje vztah občanů k vlastní zemi v globalizovaném světě.
DTSTART:20251117T123000Z
DTEND:20251117T140000Z
END:VEVENT
END:VCALENDAR
