BEGIN:VCALENDAR
VERSION:2.0
BEGIN:VEVENT
SUMMARY:EU Enlargement Forum 2025
DESCRIPTION:We warmly invite you to Monday’s programme of the Enlargement Forum conference, featuring a series of discussions on the lessons of past EU enlargements, the role of women in accession processes, and the importance of reconciliation in European integration.
DTSTART:20251201T133000Z
DTEND:20251201T150000Z
END:VEVENT
END:VCALENDAR
