BEGIN:VCALENDAR
VERSION:2.0
BEGIN:VEVENT
SUMMARY:Debata | Co je nového v Evropském parlamentu - sociální sítě až od 16 let?
DESCRIPTION:Přijďte debatovat na další ze série otevřených debat Co je nového v Evropském parlamentu? Tentokrát na téma Sociální sítě až od 16 let? Budeme se ptát nejen na to, kde leží hranice mezi svobodou a ochranou těch nejmladších. Už v pondělí 16. března.
DTSTART:20260316T143824Z
DTEND:20260316T160824Z
END:VEVENT
END:VCALENDAR
